BEGIN:VCALENDAR
VERSION:2.0
PRODID:-//DIOCESI DI ROMA - ECPv4.6.14.1//NONSGML v1.0//EN
CALSCALE:GREGORIAN
METHOD:PUBLISH
X-WR-CALNAME:DIOCESI DI ROMA
X-ORIGINAL-URL:https://www.diocesidiroma.it
X-WR-CALDESC:Eventi per DIOCESI DI ROMA
BEGIN:VEVENT
DTSTART;TZID=Europe/Rome:20230628T210000
DTEND;TZID=Europe/Rome:20230628T210000
DTSTAMP:20260421T062907
CREATED:20230623T105654Z
LAST-MODIFIED:20230623T105654Z
UID:26684-1687986000-1687986000@www.diocesidiroma.it
SUMMARY:In piazza San Pietro anima insieme al cardinale Mauro Gambetti la Veglia Diocesana “Dove è la memoria della testimonianza ultima di Pietro”
DESCRIPTION:In piazza San Pietro anima insieme al cardinale Mauro Gambetti la Veglia Diocesana “Dove è la memoria della testimonianza ultima di Pietro”. \n
URL:https://www.diocesidiroma.it/event/in-piazza-san-pietro-anima-insieme-al-cardinale-mauro-gambetti-la-veglia-diocesana-dove-e-la-memoria-della-testimonianza-ultima-di-pietro/
CATEGORIES:NON USARE --- Agenda del Vicario
END:VEVENT
END:VCALENDAR