BEGIN:VCALENDAR
VERSION:2.0
PRODID:-//DIOCESI DI ROMA - ECPv4.6.14.1//NONSGML v1.0//EN
CALSCALE:GREGORIAN
METHOD:PUBLISH
X-WR-CALNAME:DIOCESI DI ROMA
X-ORIGINAL-URL:https://www.diocesidiroma.it
X-WR-CALDESC:Eventi per DIOCESI DI ROMA
BEGIN:VEVENT
DTSTART;TZID=Europe/Rome:20220625T170000
DTEND;TZID=Europe/Rome:20220625T170000
DTSTAMP:20260425T141140
CREATED:20220617T081211Z
LAST-MODIFIED:20220617T081307Z
UID:21759-1656176400-1656176400@www.diocesidiroma.it
SUMMARY:In piazza San Pietro concelebra la Messa presieduta dal Santo Padre in occasione del X Incontro mondiale delle famiglie
DESCRIPTION:In piazza San Pietro concelebra la Messa presieduta dal Santo Padre in occasione del X Incontro mondiale delle famiglie. \n
URL:https://www.diocesidiroma.it/event/in-piazza-san-pietro-concelebra-la-messa-presieduta-dal-santo-padre-in-occasione-del-x-incontro-mondiale-delle-famiglie/
CATEGORIES:NON USARE --- Agenda del Vicario
END:VEVENT
END:VCALENDAR