BEGIN:VCALENDAR
VERSION:2.0
PRODID:-//DIOCESI DI ROMA - ECPv4.6.14.1//NONSGML v1.0//EN
CALSCALE:GREGORIAN
METHOD:PUBLISH
X-WR-CALNAME:DIOCESI DI ROMA
X-ORIGINAL-URL:https://www.diocesidiroma.it
X-WR-CALDESC:Eventi per DIOCESI DI ROMA
BEGIN:VEVENT
DTSTART;TZID=Europe/Rome:20190608T180000
DTEND;TZID=Europe/Rome:20190608T180000
DTSTAMP:20260424T181041
CREATED:20190531T105606Z
LAST-MODIFIED:20190531T105606Z
UID:7728-1560016800-1560016800@www.diocesidiroma.it
SUMMARY:In piazza San Pietro partecipa alla Veglia diocesana di Pentecoste presieduta da Papa Francesco e al termine riaccompagna processionalmente l’icona della Madonna del Divino Amore
DESCRIPTION:In piazza San Pietro partecipa alla Veglia diocesana di Pentecoste presieduta da Papa Francesco e al termine riaccompagna processionalmente l’icona della Madonna del Divino Amore. \n
URL:https://www.diocesidiroma.it/event/in-piazza-san-pietro-partecipa-alla-veglia-diocesana-di-pentecoste-presieduta-da-papa-francesco-e-al-termine-riaccompagna-processionalmente-licona-della-madonna-del-divino-amore/
CATEGORIES:NON USARE --- Agenda del Vicario
END:VEVENT
END:VCALENDAR