BEGIN:VCALENDAR
VERSION:2.0
PRODID:-//DIOCESI DI ROMA - ECPv4.6.14.1//NONSGML v1.0//EN
CALSCALE:GREGORIAN
METHOD:PUBLISH
X-WR-CALNAME:DIOCESI DI ROMA
X-ORIGINAL-URL:https://www.diocesidiroma.it
X-WR-CALDESC:Eventi per DIOCESI DI ROMA
BEGIN:VEVENT
DTSTART;TZID=Europe/Rome:20191221T103000
DTEND;TZID=Europe/Rome:20191221T103000
DTSTAMP:20260423T133405
CREATED:20191213T104536Z
LAST-MODIFIED:20191213T104536Z
UID:9562-1576924200-1576924200@www.diocesidiroma.it
SUMMARY:In Vaticano partecipa agli auguri di Natale del Santo Padre alla Curia Romana
DESCRIPTION:In Vaticano partecipa agli auguri di Natale del Santo Padre alla Curia Romana. \n
URL:https://www.diocesidiroma.it/event/in-vaticano-partecipa-agli-auguri-di-natale-del-santo-padre-alla-curia-romana-2/
CATEGORIES:NON USARE --- Agenda del Vicario
END:VEVENT
END:VCALENDAR