BEGIN:VCALENDAR
VERSION:2.0
PRODID:-//DIOCESI DI ROMA - ECPv4.6.14.1//NONSGML v1.0//EN
CALSCALE:GREGORIAN
METHOD:PUBLISH
X-WR-CALNAME:DIOCESI DI ROMA
X-ORIGINAL-URL:https://www.diocesidiroma.it
X-WR-CALDESC:Eventi per DIOCESI DI ROMA
BEGIN:VEVENT
DTSTART;TZID=Europe/Rome:20221217T110000
DTEND;TZID=Europe/Rome:20221217T110000
DTSTAMP:20260420T201951
CREATED:20221209T101245Z
LAST-MODIFIED:20221209T101245Z
UID:24423-1671274800-1671274800@www.diocesidiroma.it
SUMMARY:In Vaticano partecipa all’udienza del Santo Padre con i seminaristi della Diocesi
DESCRIPTION:In Vaticano partecipa all’udienza del Santo Padre con i seminaristi della Diocesi. \n
URL:https://www.diocesidiroma.it/event/in-vaticano-partecipa-alludienza-del-santo-padre-con-i-seminaristi-della-diocesi/
CATEGORIES:NON USARE --- Agenda del Vicario
END:VEVENT
END:VCALENDAR