BEGIN:VCALENDAR
VERSION:2.0
PRODID:-//DIOCESI DI ROMA - ECPv4.6.14.1//NONSGML v1.0//EN
CALSCALE:GREGORIAN
METHOD:PUBLISH
X-WR-CALNAME:DIOCESI DI ROMA
X-ORIGINAL-URL:https://www.diocesidiroma.it
X-WR-CALDESC:Eventi per DIOCESI DI ROMA
BEGIN:VEVENT
DTSTART;TZID=Europe/Rome:20221223T120000
DTEND;TZID=Europe/Rome:20221223T120000
DTSTAMP:20260424T020437
CREATED:20221216T102744Z
LAST-MODIFIED:20221216T102744Z
UID:24490-1671796800-1671796800@www.diocesidiroma.it
SUMMARY:In Vicariato partecipa allo scambio degli auguri natalizi con il personale
DESCRIPTION:In Vicariato partecipa allo scambio degli auguri natalizi con il personale \n
URL:https://www.diocesidiroma.it/event/in-vicariato-partecipa-allo-scambio-degli-auguri-natalizi-con-il-personale-4/
CATEGORIES:NON USARE --- Agenda del Vicario
END:VEVENT
END:VCALENDAR