BEGIN:VCALENDAR
VERSION:2.0
PRODID:-//DIOCESI DI ROMA - ECPv4.6.14.1//NONSGML v1.0//EN
CALSCALE:GREGORIAN
METHOD:PUBLISH
X-WR-CALNAME:DIOCESI DI ROMA
X-ORIGINAL-URL:https://www.diocesidiroma.it
X-WR-CALDESC:Eventi per DIOCESI DI ROMA
BEGIN:VEVENT
DTSTART;TZID=Europe/Rome:20230922T113000
DTEND;TZID=Europe/Rome:20230922T113000
DTSTAMP:20260421T005423
CREATED:20230915T082331Z
LAST-MODIFIED:20230915T082331Z
UID:27295-1695382200-1695382200@www.diocesidiroma.it
SUMMARY:In Vicariato presiede il Collegio dei Consultori
DESCRIPTION:In Vicariato presiede il Collegio dei Consultori \n
URL:https://www.diocesidiroma.it/event/in-vicariato-presiede-il-collegio-dei-consultori-6/
CATEGORIES:NON USARE --- Agenda del Vicario
END:VEVENT
END:VCALENDAR