BEGIN:VCALENDAR
VERSION:2.0
PRODID:-//DIOCESI DI ROMA - ECPv4.6.14.1//NONSGML v1.0//EN
CALSCALE:GREGORIAN
METHOD:PUBLISH
X-WR-CALNAME:DIOCESI DI ROMA
X-ORIGINAL-URL:https://www.diocesidiroma.it
X-WR-CALDESC:Eventi per DIOCESI DI ROMA
BEGIN:VEVENT
DTSTART;TZID=Europe/Rome:20231124T113000
DTEND;TZID=Europe/Rome:20231124T113000
DTSTAMP:20260422T095635
CREATED:20231117T120542Z
LAST-MODIFIED:20231117T120542Z
UID:27964-1700825400-1700825400@www.diocesidiroma.it
SUMMARY:In Vicariato presiede il Collegio dei Consultori
DESCRIPTION:In Vicariato presiede il Collegio dei Consultori. \n  \n
URL:https://www.diocesidiroma.it/event/in-vicariato-presiede-il-collegio-dei-consultori-7/
CATEGORIES:NON USARE --- Agenda del Vicario
END:VEVENT
END:VCALENDAR