BEGIN:VCALENDAR
VERSION:2.0
PRODID:-//DIOCESI DI ROMA - ECPv4.6.14.1//NONSGML v1.0//EN
CALSCALE:GREGORIAN
METHOD:PUBLISH
X-WR-CALNAME:DIOCESI DI ROMA
X-ORIGINAL-URL:https://www.diocesidiroma.it
X-WR-CALDESC:Eventi per DIOCESI DI ROMA
BEGIN:VEVENT
DTSTART;TZID=Europe/Rome:20191125T120000
DTEND;TZID=Europe/Rome:20191125T120000
DTSTAMP:20260423T162310
CREATED:20191122T084946Z
LAST-MODIFIED:20191122T084946Z
UID:9375-1574683200-1574683200@www.diocesidiroma.it
SUMMARY:In Vicariato presiede il Consiglio affari economici
DESCRIPTION:In Vicariato presiede il Consiglio affari economici. \n
URL:https://www.diocesidiroma.it/event/in-vicariato-presiede-il-consiglio-affari-economici-3/
CATEGORIES:NON USARE --- Agenda del Vicario
END:VEVENT
END:VCALENDAR