BEGIN:VCALENDAR
VERSION:2.0
PRODID:-//DIOCESI DI ROMA - ECPv4.6.14.1//NONSGML v1.0//EN
CALSCALE:GREGORIAN
METHOD:PUBLISH
X-WR-CALNAME:DIOCESI DI ROMA
X-ORIGINAL-URL:https://www.diocesidiroma.it
X-WR-CALDESC:Eventi per DIOCESI DI ROMA
BEGIN:VEVENT
DTSTART;TZID=Europe/Rome:20190410T163000
DTEND;TZID=Europe/Rome:20190410T163000
DTSTAMP:20260422T112206
CREATED:20190405T090438Z
LAST-MODIFIED:20190405T090438Z
UID:7291-1554913800-1554913800@www.diocesidiroma.it
SUMMARY:In Vicariato presiede il Consiglio affari economici
DESCRIPTION:In Vicariato presiede il Consiglio affari economici. \n
URL:https://www.diocesidiroma.it/event/in-vicariato-presiede-il-consiglio-affari-economici/
CATEGORIES:NON USARE --- Agenda del Vicario
END:VEVENT
END:VCALENDAR