BEGIN:VCALENDAR
VERSION:2.0
PRODID:-//DIOCESI DI ROMA - ECPv4.6.14.1//NONSGML v1.0//EN
CALSCALE:GREGORIAN
METHOD:PUBLISH
X-WR-CALNAME:DIOCESI DI ROMA
X-ORIGINAL-URL:https://www.diocesidiroma.it
X-WR-CALDESC:Eventi per DIOCESI DI ROMA
BEGIN:VEVENT
DTSTART;TZID=Europe/Rome:20191202T100000
DTEND;TZID=Europe/Rome:20191202T100000
DTSTAMP:20260421T182417
CREATED:20191129T083125Z
LAST-MODIFIED:20191129T083125Z
UID:9434-1575280800-1575280800@www.diocesidiroma.it
SUMMARY:In Vicariato presiede il Consiglio dei prefetti
DESCRIPTION:In Vicariato presiede il Consiglio dei prefetti. \n
URL:https://www.diocesidiroma.it/event/in-vicariato-presiede-il-consiglio-dei-prefetti-3/
CATEGORIES:NON USARE --- Agenda del Vicario
END:VEVENT
END:VCALENDAR