BEGIN:VCALENDAR
VERSION:2.0
PRODID:-//DIOCESI DI ROMA - ECPv4.6.14.1//NONSGML v1.0//EN
CALSCALE:GREGORIAN
METHOD:PUBLISH
X-WR-CALNAME:DIOCESI DI ROMA
X-ORIGINAL-URL:https://www.diocesidiroma.it
X-WR-CALDESC:Eventi per DIOCESI DI ROMA
BEGIN:VEVENT
DTSTART;TZID=Europe/Rome:20220207T100000
DTEND;TZID=Europe/Rome:20220207T100000
DTSTAMP:20260421T010601
CREATED:20220204T102443Z
LAST-MODIFIED:20220204T102443Z
UID:20199-1644228000-1644228000@www.diocesidiroma.it
SUMMARY:In Vicariato presiede il Consiglio dei Prefetti
DESCRIPTION:In Vicariato presiede il Consiglio dei Prefetti. \n
URL:https://www.diocesidiroma.it/event/in-vicariato-presiede-il-consiglio-dei-prefetti-8/
CATEGORIES:NON USARE --- Agenda del Vicario
END:VEVENT
END:VCALENDAR