BEGIN:VCALENDAR
VERSION:2.0
PRODID:-//DIOCESI DI ROMA - ECPv4.6.14.1//NONSGML v1.0//EN
CALSCALE:GREGORIAN
METHOD:PUBLISH
X-WR-CALNAME:DIOCESI DI ROMA
X-ORIGINAL-URL:https://www.diocesidiroma.it
X-WR-CALDESC:Eventi per DIOCESI DI ROMA
BEGIN:VEVENT
DTSTART;TZID=Europe/Rome:20190114T100000
DTEND;TZID=Europe/Rome:20190114T100000
DTSTAMP:20260422T030729
CREATED:20190111T084117Z
LAST-MODIFIED:20190111T084117Z
UID:6041-1547460000-1547460000@www.diocesidiroma.it
SUMMARY:In Vicariato presiede il Consiglio dei prefetti
DESCRIPTION:In Vicariato presiede il Consiglio dei prefetti. \n
URL:https://www.diocesidiroma.it/event/in-vicariato-presiede-il-consiglio-dei-prefetti/
CATEGORIES:NON USARE --- Agenda del Vicario
END:VEVENT
END:VCALENDAR