BEGIN:VCALENDAR
VERSION:2.0
PRODID:-//DIOCESI DI ROMA - ECPv4.6.14.1//NONSGML v1.0//EN
CALSCALE:GREGORIAN
METHOD:PUBLISH
X-WR-CALNAME:DIOCESI DI ROMA
X-ORIGINAL-URL:https://www.diocesidiroma.it
X-WR-CALDESC:Eventi per DIOCESI DI ROMA
BEGIN:VEVENT
DTSTART;TZID=Europe/Rome:20220723T100000
DTEND;TZID=Europe/Rome:20220723T100000
DTSTAMP:20260425T155751
CREATED:20220715T100928Z
LAST-MODIFIED:20220715T100928Z
UID:22110-1658570400-1658570400@www.diocesidiroma.it
SUMMARY:In Vicariato presiede il Consiglio Diocesano Affari Economici
DESCRIPTION:In Vicariato presiede il Consiglio Diocesano Affari Economici. \n
URL:https://www.diocesidiroma.it/event/in-vicariato-presiede-il-consiglio-diocesano-affari-economici-3/
CATEGORIES:NON USARE --- Agenda del Vicario
END:VEVENT
END:VCALENDAR