BEGIN:VCALENDAR
VERSION:2.0
PRODID:-//DIOCESI DI ROMA - ECPv4.6.14.1//NONSGML v1.0//EN
CALSCALE:GREGORIAN
METHOD:PUBLISH
X-WR-CALNAME:DIOCESI DI ROMA
X-ORIGINAL-URL:https://www.diocesidiroma.it
X-WR-CALDESC:Eventi per DIOCESI DI ROMA
BEGIN:VEVENT
DTSTART;TZID=Europe/Rome:20221215T173000
DTEND;TZID=Europe/Rome:20221215T173000
DTSTAMP:20260421T042330
CREATED:20221209T101008Z
LAST-MODIFIED:20221209T101008Z
UID:24418-1671125400-1671125400@www.diocesidiroma.it
SUMMARY:In Vicariato presiede il Consiglio Diocesano Affari Economici
DESCRIPTION:In Vicariato presiede il Consiglio Diocesano Affari Economici. \n
URL:https://www.diocesidiroma.it/event/in-vicariato-presiede-il-consiglio-diocesano-affari-economici-4/
CATEGORIES:NON USARE --- Agenda del Vicario
END:VEVENT
END:VCALENDAR