BEGIN:VCALENDAR
VERSION:2.0
PRODID:-//DIOCESI DI ROMA - ECPv4.6.14.1//NONSGML v1.0//EN
CALSCALE:GREGORIAN
METHOD:PUBLISH
X-WR-CALNAME:DIOCESI DI ROMA
X-ORIGINAL-URL:https://www.diocesidiroma.it
X-WR-CALDESC:Eventi per DIOCESI DI ROMA
BEGIN:VEVENT
DTSTART;TZID=Europe/Rome:20190610T100000
DTEND;TZID=Europe/Rome:20190610T100000
DTSTAMP:20260420T233301
CREATED:20190607T094015Z
LAST-MODIFIED:20190607T094015Z
UID:7775-1560160800-1560160800@www.diocesidiroma.it
SUMMARY:In Vicariato presiede il Consiglio presbiterale
DESCRIPTION:In Vicariato presiede il Consiglio presbiterale. \n
URL:https://www.diocesidiroma.it/event/in-vicariato-presiede-il-consiglio-presbiterale-3/
CATEGORIES:NON USARE --- Agenda del Vicario
END:VEVENT
END:VCALENDAR