BEGIN:VCALENDAR
VERSION:2.0
PRODID:-//DIOCESI DI ROMA - ECPv4.6.14.1//NONSGML v1.0//EN
CALSCALE:GREGORIAN
METHOD:PUBLISH
X-WR-CALNAME:DIOCESI DI ROMA
X-ORIGINAL-URL:https://www.diocesidiroma.it
X-WR-CALDESC:Eventi per DIOCESI DI ROMA
BEGIN:VEVENT
DTSTART;TZID=Europe/Rome:20240216T090000
DTEND;TZID=Europe/Rome:20240216T090000
DTSTAMP:20260425T130216
CREATED:20240209T131238Z
LAST-MODIFIED:20240209T131238Z
UID:28843-1708074000-1708074000@www.diocesidiroma.it
SUMMARY:In Vicariato presiede la Commissione “De Promovendis ad Ordines” dei prossimi candidati presbiteri della Diocesi
DESCRIPTION:In Vicariato presiede la Commissione “De Promovendis ad Ordines” dei prossimi candidati presbiteri della Diocesi. \n
URL:https://www.diocesidiroma.it/event/in-vicariato-presiede-la-commissione-de-promovendis-ad-ordines-dei-prossimi-candidati-presbiteri-della-diocesi/
CATEGORIES:NON USARE --- Agenda del Vicario
END:VEVENT
END:VCALENDAR