BEGIN:VCALENDAR
VERSION:2.0
PRODID:-//DIOCESI DI ROMA - ECPv4.6.14.1//NONSGML v1.0//EN
CALSCALE:GREGORIAN
METHOD:PUBLISH
X-WR-CALNAME:DIOCESI DI ROMA
X-ORIGINAL-URL:https://www.diocesidiroma.it
X-WR-CALDESC:Eventi per DIOCESI DI ROMA
BEGIN:VEVENT
DTSTART;TZID=Europe/Rome:20260221T113000
DTEND;TZID=Europe/Rome:20260221T113000
DTSTAMP:20260422T014807
CREATED:20260213T083847Z
LAST-MODIFIED:20260213T083927Z
UID:39940-1771673400-1771673400@www.diocesidiroma.it
SUMMARY:Inaugura il centro oculistico e cardiologico e visita il polo odontoiatrico presso il Collegio apostolico Leoniano
DESCRIPTION:Inaugura il centro oculistico e cardiologico e visita il polo odontoiatrico presso il Collegio apostolico Leoniano  \n
URL:https://www.diocesidiroma.it/event/inaugura-il-centro-oculistico-e-cardiologico-e-visita-il-polo-odontoiatrico-presso-il-collegio-apostolico-leoniano/
CATEGORIES:Vicario Generale
END:VEVENT
END:VCALENDAR