BEGIN:VCALENDAR
VERSION:2.0
PRODID:-//DIOCESI DI ROMA - ECPv4.6.14.1//NONSGML v1.0//EN
CALSCALE:GREGORIAN
METHOD:PUBLISH
X-WR-CALNAME:DIOCESI DI ROMA
X-ORIGINAL-URL:https://www.diocesidiroma.it
X-WR-CALDESC:Eventi per DIOCESI DI ROMA
BEGIN:VEVENT
DTSTART;TZID=Europe/Rome:20251212T120000
DTEND;TZID=Europe/Rome:20251212T120000
DTSTAMP:20260421T181953
CREATED:20251206T122527Z
LAST-MODIFIED:20251206T122527Z
UID:38976-1765540800-1765540800@www.diocesidiroma.it
SUMMARY:Inaugurazione del Ponte dell’Industria
DESCRIPTION:Inaugurazione del Ponte dell’Industria \n
URL:https://www.diocesidiroma.it/event/inaugurazione-del-ponte-dellindustria/
CATEGORIES:Vicario Generale
END:VEVENT
END:VCALENDAR