BEGIN:VCALENDAR
VERSION:2.0
PRODID:-//DIOCESI DI ROMA - ECPv4.6.14.1//NONSGML v1.0//EN
CALSCALE:GREGORIAN
METHOD:PUBLISH
X-WR-CALNAME:DIOCESI DI ROMA
X-ORIGINAL-URL:https://www.diocesidiroma.it
X-WR-CALDESC:Eventi per DIOCESI DI ROMA
BEGIN:VEVENT
DTSTART;TZID=Europe/Rome:20251114T110000
DTEND;TZID=Europe/Rome:20251114T110000
DTSTAMP:20260422T220135
CREATED:20251107T111359Z
LAST-MODIFIED:20251107T111359Z
UID:38461-1763118000-1763118000@www.diocesidiroma.it
SUMMARY:Inaugurazione dell’anno accademico alla Pontificia Università Lateranense
DESCRIPTION:Inaugurazione dell’anno accademico alla Pontificia Università Lateranense \n
URL:https://www.diocesidiroma.it/event/inaugurazione-dellanno-accademico-alla-pontificia-universita-lateranense/
CATEGORIES:Vicario Generale
END:VEVENT
END:VCALENDAR