BEGIN:VCALENDAR
VERSION:2.0
PRODID:-//DIOCESI DI ROMA - ECPv4.6.14.1//NONSGML v1.0//EN
CALSCALE:GREGORIAN
METHOD:PUBLISH
X-WR-CALNAME:DIOCESI DI ROMA
X-ORIGINAL-URL:https://www.diocesidiroma.it
X-WR-CALDESC:Eventi per DIOCESI DI ROMA
BEGIN:VEVENT
DTSTART;TZID=Europe/Rome:20251209T163000
DTEND;TZID=Europe/Rome:20251209T163000
DTSTAMP:20260422T162051
CREATED:20251206T121803Z
LAST-MODIFIED:20251206T121803Z
UID:38960-1765297800-1765297800@www.diocesidiroma.it
SUMMARY:Inaugurazione Villino “La Palma” dell’Opera Ronconi Pennesi
DESCRIPTION:Inaugurazione Villino “La Palma” dell’Opera Ronconi Pennesi \n
URL:https://www.diocesidiroma.it/event/inaugurazione-villino-la-palma-dellopera-ronconi-pennesi/
CATEGORIES:Vicario Generale
END:VEVENT
END:VCALENDAR