BEGIN:VCALENDAR
VERSION:2.0
PRODID:-//DIOCESI DI ROMA - ECPv4.6.14.1//NONSGML v1.0//EN
CALSCALE:GREGORIAN
METHOD:PUBLISH
X-WR-CALNAME:DIOCESI DI ROMA
X-ORIGINAL-URL:https://www.diocesidiroma.it
X-WR-CALDESC:Eventi per DIOCESI DI ROMA
BEGIN:VEVENT
DTSTART;TZID=Europe/Rome:20250925T123000
DTEND;TZID=Europe/Rome:20250925T123000
DTSTAMP:20260423T162223
CREATED:20250919T071500Z
LAST-MODIFIED:20250919T071500Z
UID:37271-1758803400-1758803400@www.diocesidiroma.it
SUMMARY:Incontra alcuni gestori di discoteche romane per discutere del disagio giovanile
DESCRIPTION:Incontra alcuni gestori di discoteche romane per discutere del disagio giovanile \n
URL:https://www.diocesidiroma.it/event/incontra-alcuni-gestori-di-discoteche-romane-per-discutere-del-disagio-giovanile/
CATEGORIES:Vicario Generale
END:VEVENT
END:VCALENDAR