BEGIN:VCALENDAR
VERSION:2.0
PRODID:-//DIOCESI DI ROMA - ECPv4.6.14.1//NONSGML v1.0//EN
CALSCALE:GREGORIAN
METHOD:PUBLISH
X-WR-CALNAME:DIOCESI DI ROMA
X-ORIGINAL-URL:https://www.diocesidiroma.it
X-WR-CALDESC:Eventi per DIOCESI DI ROMA
BEGIN:VEVENT
DTSTART;TZID=Europe/Rome:20241212T150000
DTEND;TZID=Europe/Rome:20241212T150000
DTSTAMP:20260423T005004
CREATED:20241206T111111Z
LAST-MODIFIED:20241206T111111Z
UID:32403-1734015600-1734015600@www.diocesidiroma.it
SUMMARY:Incontra alcuni Movimenti Popolari
DESCRIPTION:Incontra alcuni Movimenti Popolari \n
URL:https://www.diocesidiroma.it/event/incontra-alcuni-movimenti-popolari/
CATEGORIES:Vicario Generale
END:VEVENT
END:VCALENDAR