BEGIN:VCALENDAR
VERSION:2.0
PRODID:-//DIOCESI DI ROMA - ECPv4.6.14.1//NONSGML v1.0//EN
CALSCALE:GREGORIAN
METHOD:PUBLISH
X-WR-CALNAME:DIOCESI DI ROMA
X-ORIGINAL-URL:https://www.diocesidiroma.it
X-WR-CALDESC:Eventi per DIOCESI DI ROMA
BEGIN:VEVENT
DTSTART;TZID=Europe/Rome:20250929T100000
DTEND;TZID=Europe/Rome:20250929T113000
DTSTAMP:20260424T014348
CREATED:20250926T085828Z
LAST-MODIFIED:20250926T085828Z
UID:37380-1759140000-1759145400@www.diocesidiroma.it
SUMMARY:Incontra gli esorcisti della diocesi di Roma
DESCRIPTION:Incontra gli esorcisti della diocesi di Roma \n
URL:https://www.diocesidiroma.it/event/incontra-gli-esorcisti-della-diocesi-di-roma/
CATEGORIES:Vicario Generale
END:VEVENT
END:VCALENDAR