BEGIN:VCALENDAR
VERSION:2.0
PRODID:-//DIOCESI DI ROMA - ECPv4.6.14.1//NONSGML v1.0//EN
CALSCALE:GREGORIAN
METHOD:PUBLISH
X-WR-CALNAME:DIOCESI DI ROMA
X-ORIGINAL-URL:https://www.diocesidiroma.it
X-WR-CALDESC:Eventi per DIOCESI DI ROMA
BEGIN:VEVENT
DTSTART;TZID=Europe/Rome:20250211T100000
DTEND;TZID=Europe/Rome:20250211T100000
DTSTAMP:20260425T104528
CREATED:20250207T083700Z
LAST-MODIFIED:20250207T083806Z
UID:33716-1739268000-1739268000@www.diocesidiroma.it
SUMMARY:Incontra gli Oblati del Divino Amore
DESCRIPTION:Incontra gli Oblati del Divino Amore \n
URL:https://www.diocesidiroma.it/event/incontra-gli-oblati-del-divino-amore/
CATEGORIES:Vicario Generale
END:VEVENT
END:VCALENDAR