BEGIN:VCALENDAR
VERSION:2.0
PRODID:-//DIOCESI DI ROMA - ECPv4.6.14.1//NONSGML v1.0//EN
CALSCALE:GREGORIAN
METHOD:PUBLISH
X-WR-CALNAME:DIOCESI DI ROMA
X-ORIGINAL-URL:https://www.diocesidiroma.it
X-WR-CALDESC:Eventi per DIOCESI DI ROMA
BEGIN:VEVENT
DTSTART;TZID=Europe/Rome:20241212T083000
DTEND;TZID=Europe/Rome:20241212T083000
DTSTAMP:20260422T235138
CREATED:20241206T110929Z
LAST-MODIFIED:20241206T110929Z
UID:32397-1733992200-1733992200@www.diocesidiroma.it
SUMMARY:Incontra gli studenti della scuola: Collegio S. Giuseppe - Istituto de Merode e inaugura la mostra “W Il Presepe”
DESCRIPTION:Incontra gli studenti della scuola: Collegio S. Giuseppe – Istituto de Merode e inaugura la mostra “W Il Presepe” \n
URL:https://www.diocesidiroma.it/event/incontra-gli-studenti-della-scuola-collegio-s-giuseppe-istituto-de-merode-e-inaugura-la-mostra-w-il-presepe/
CATEGORIES:Vicario Generale
END:VEVENT
END:VCALENDAR