BEGIN:VCALENDAR
VERSION:2.0
PRODID:-//DIOCESI DI ROMA - ECPv4.6.14.1//NONSGML v1.0//EN
CALSCALE:GREGORIAN
METHOD:PUBLISH
X-WR-CALNAME:DIOCESI DI ROMA
X-ORIGINAL-URL:https://www.diocesidiroma.it
X-WR-CALDESC:Eventi per DIOCESI DI ROMA
BEGIN:VEVENT
DTSTART;TZID=Europe/Rome:20251020T110000
DTEND;TZID=Europe/Rome:20251020T123000
DTSTAMP:20260422T060645
CREATED:20251017T094445Z
LAST-MODIFIED:20251017T094445Z
UID:37938-1760958000-1760963400@www.diocesidiroma.it
SUMMARY:Incontra gli studenti della scuola diocesana Sant’Apollinare
DESCRIPTION:Incontra gli studenti della scuola diocesana Sant’Apollinare \n
URL:https://www.diocesidiroma.it/event/incontra-gli-studenti-della-scuola-diocesana-santapollinare/
CATEGORIES:Vicario Generale
END:VEVENT
END:VCALENDAR