BEGIN:VCALENDAR
VERSION:2.0
PRODID:-//DIOCESI DI ROMA - ECPv4.6.14.1//NONSGML v1.0//EN
CALSCALE:GREGORIAN
METHOD:PUBLISH
X-WR-CALNAME:DIOCESI DI ROMA
X-ORIGINAL-URL:https://www.diocesidiroma.it
X-WR-CALDESC:Eventi per DIOCESI DI ROMA
BEGIN:VEVENT
DTSTART;TZID=Europe/Rome:20190119T160000
DTEND;TZID=Europe/Rome:20190119T190000
DTSTAMP:20260420T214054
CREATED:20190111T084432Z
LAST-MODIFIED:20190111T084432Z
UID:6049-1547913600-1547924400@www.diocesidiroma.it
SUMMARY:Incontra i gruppi della parrocchia di San Giuseppe all’Aurelio e alle ore 18 celebra la Messa
DESCRIPTION:Incontra i gruppi della parrocchia di San Giuseppe all’Aurelio e alle ore 18 celebra la Messa. \n
URL:https://www.diocesidiroma.it/event/incontra-i-gruppi-della-parrocchia-di-san-giuseppe-allaurelio-e-alle-ore-18-celebra-la-messa/
CATEGORIES:NON USARE --- Agenda del Vicario
END:VEVENT
END:VCALENDAR