BEGIN:VCALENDAR
VERSION:2.0
PRODID:-//DIOCESI DI ROMA - ECPv4.6.14.1//NONSGML v1.0//EN
CALSCALE:GREGORIAN
METHOD:PUBLISH
X-WR-CALNAME:DIOCESI DI ROMA
X-ORIGINAL-URL:https://www.diocesidiroma.it
X-WR-CALDESC:Eventi per DIOCESI DI ROMA
BEGIN:VEVENT
DTSTART;TZID=Europe/Rome:20190108T000000
DTEND;TZID=Europe/Rome:20190108T000000
DTSTAMP:20260424T000249
CREATED:20190104T075132Z
LAST-MODIFIED:20190104T075132Z
UID:6000-1546905600-1546905600@www.diocesidiroma.it
SUMMARY:Incontra i nuovi parroci  presso la Casa di preghiera Domus Aurea delle Suore Figlie della Chiesa
DESCRIPTION:Nel pomeriggio incontra i nuovi parroci  presso la Casa di preghiera Domus Aurea delle Suore Figlie della Chiesa. \n
URL:https://www.diocesidiroma.it/event/incontra-i-nuovi-parroci-presso-la-casa-di-preghiera-domus-aurea-delle-suore-figlie-della-chiesa/
CATEGORIES:NON USARE --- Agenda del Vicario
END:VEVENT
END:VCALENDAR