BEGIN:VCALENDAR
VERSION:2.0
PRODID:-//DIOCESI DI ROMA - ECPv4.6.14.1//NONSGML v1.0//EN
CALSCALE:GREGORIAN
METHOD:PUBLISH
X-WR-CALNAME:DIOCESI DI ROMA
X-ORIGINAL-URL:https://www.diocesidiroma.it
X-WR-CALDESC:Eventi per DIOCESI DI ROMA
BEGIN:VEVENT
DTSTART;TZID=Europe/Rome:20251009T083000
DTEND;TZID=Europe/Rome:20251009T083000
DTSTAMP:20260421T104133
CREATED:20251003T105712Z
LAST-MODIFIED:20251003T105712Z
UID:37638-1759998600-1759998600@www.diocesidiroma.it
SUMMARY:Incontra i presbiteri ordinati nell’ultimo anno
DESCRIPTION:Incontra i presbiteri ordinati nell’ultimo anno \n
URL:https://www.diocesidiroma.it/event/incontra-i-presbiteri-ordinati-nellultimo-anno/
CATEGORIES:Vicario Generale
END:VEVENT
END:VCALENDAR