BEGIN:VCALENDAR
VERSION:2.0
PRODID:-//DIOCESI DI ROMA - ECPv4.6.14.1//NONSGML v1.0//EN
CALSCALE:GREGORIAN
METHOD:PUBLISH
X-WR-CALNAME:DIOCESI DI ROMA
X-ORIGINAL-URL:https://www.diocesidiroma.it
X-WR-CALDESC:Eventi per DIOCESI DI ROMA
BEGIN:VEVENT
DTSTART;TZID=Europe/Rome:20260212T173000
DTEND;TZID=Europe/Rome:20260212T200000
DTSTAMP:20260422T030256
CREATED:20260209T073554Z
LAST-MODIFIED:20260209T073554Z
UID:39826-1770917400-1770926400@www.diocesidiroma.it
SUMMARY:Incontra i referenti di prefettura di pastorale giovanile presso la parrocchia di Santa Marcella
DESCRIPTION:Incontra i referenti di prefettura di pastorale giovanile presso la parrocchia di Santa Marcella \n
URL:https://www.diocesidiroma.it/event/incontra-i-referenti-di-prefettura-di-pastorale-giovanile-presso-la-parrocchia-di-santa-marcella/
CATEGORIES:Vicario Generale
END:VEVENT
END:VCALENDAR