BEGIN:VCALENDAR
VERSION:2.0
PRODID:-//DIOCESI DI ROMA - ECPv4.6.14.1//NONSGML v1.0//EN
CALSCALE:GREGORIAN
METHOD:PUBLISH
X-WR-CALNAME:DIOCESI DI ROMA
X-ORIGINAL-URL:https://www.diocesidiroma.it
X-WR-CALDESC:Eventi per DIOCESI DI ROMA
BEGIN:VEVENT
DTSTART;TZID=Europe/Rome:20181120T083000
DTEND;TZID=Europe/Rome:20181120T083000
DTSTAMP:20260421T161122
CREATED:20181115T090846Z
LAST-MODIFIED:20181115T090846Z
UID:5529-1542702600-1542702600@www.diocesidiroma.it
SUMMARY:Incontra i sacerdoti
DESCRIPTION:Incontra i sacerdoti. \n
URL:https://www.diocesidiroma.it/event/incontra-i-sacerdoti-2/
CATEGORIES:NON USARE --- Agenda del Vicario
END:VEVENT
END:VCALENDAR