BEGIN:VCALENDAR
VERSION:2.0
PRODID:-//DIOCESI DI ROMA - ECPv4.6.14.1//NONSGML v1.0//EN
CALSCALE:GREGORIAN
METHOD:PUBLISH
X-WR-CALNAME:DIOCESI DI ROMA
X-ORIGINAL-URL:https://www.diocesidiroma.it
X-WR-CALDESC:Eventi per DIOCESI DI ROMA
BEGIN:VEVENT
DTSTART;TZID=Europe/Rome:20181218T083000
DTEND;TZID=Europe/Rome:20181218T083000
DTSTAMP:20260422T231500
CREATED:20181214T091046Z
LAST-MODIFIED:20181214T091046Z
UID:5861-1545121800-1545121800@www.diocesidiroma.it
SUMMARY:Incontra i sacerdoti
DESCRIPTION:Incontra i sacerdoti. \n
URL:https://www.diocesidiroma.it/event/incontra-i-sacerdoti-5/
CATEGORIES:NON USARE --- Agenda del Vicario
END:VEVENT
END:VCALENDAR