BEGIN:VCALENDAR
VERSION:2.0
PRODID:-//DIOCESI DI ROMA - ECPv4.6.14.1//NONSGML v1.0//EN
CALSCALE:GREGORIAN
METHOD:PUBLISH
X-WR-CALNAME:DIOCESI DI ROMA
X-ORIGINAL-URL:https://www.diocesidiroma.it
X-WR-CALDESC:Eventi per DIOCESI DI ROMA
BEGIN:VEVENT
DTSTART;TZID=Europe/Rome:20200908T093000
DTEND;TZID=Europe/Rome:20200908T093000
DTSTAMP:20260424T134608
CREATED:20200904T081946Z
LAST-MODIFIED:20200904T081946Z
UID:11495-1599557400-1599557400@www.diocesidiroma.it
SUMMARY:Incontra i seminaristi romani riuniti alla Fraterna Domus di Sacrofano
DESCRIPTION:incontra i seminaristi romani riuniti alla Fraterna Domus di Sacrofano. \n
URL:https://www.diocesidiroma.it/event/incontra-i-seminaristi-romani-riuniti-alla-fraterna-domus-di-sacrofano/
CATEGORIES:NON USARE --- Agenda del Vicario
END:VEVENT
END:VCALENDAR