BEGIN:VCALENDAR
VERSION:2.0
PRODID:-//DIOCESI DI ROMA - ECPv4.6.14.1//NONSGML v1.0//EN
CALSCALE:GREGORIAN
METHOD:PUBLISH
X-WR-CALNAME:DIOCESI DI ROMA
X-ORIGINAL-URL:https://www.diocesidiroma.it
X-WR-CALDESC:Eventi per DIOCESI DI ROMA
BEGIN:VEVENT
DTSTART;TZID=Europe/Rome:20210520T163000
DTEND;TZID=Europe/Rome:20210520T163000
DTSTAMP:20260421T062545
CREATED:20210514T094459Z
LAST-MODIFIED:20210514T094459Z
UID:15585-1621528200-1621528200@www.diocesidiroma.it
SUMMARY:Incontra il Collegio dei Coadiutori del Capitolo Lateranense
DESCRIPTION:Incontra il Collegio dei Coadiutori del Capitolo Lateranense. \n
URL:https://www.diocesidiroma.it/event/incontra-il-collegio-dei-coadiutori-del-capitolo-lateranense/
CATEGORIES:NON USARE --- Agenda del Vicario
END:VEVENT
END:VCALENDAR