BEGIN:VCALENDAR
VERSION:2.0
PRODID:-//DIOCESI DI ROMA - ECPv4.6.14.1//NONSGML v1.0//EN
CALSCALE:GREGORIAN
METHOD:PUBLISH
X-WR-CALNAME:DIOCESI DI ROMA
X-ORIGINAL-URL:https://www.diocesidiroma.it
X-WR-CALDESC:Eventi per DIOCESI DI ROMA
BEGIN:VEVENT
DTSTART;TZID=Europe/Rome:20241121T183000
DTEND;TZID=Europe/Rome:20241121T183000
DTSTAMP:20260425T102917
CREATED:20241115T170344Z
LAST-MODIFIED:20241115T170717Z
UID:31964-1732213800-1732213800@www.diocesidiroma.it
SUMMARY:Incontra la comunità della parrocchia S. Felicita e figli martiri a Fidene
DESCRIPTION:Incontra la comunità della parrocchia S. Felicita e figli martiri a Fidene \n
URL:https://www.diocesidiroma.it/event/incontra-la-comunita-della-parrocchia-s-felicita-e-figli-martiri-a-fidene/
CATEGORIES:Vicario Generale
END:VEVENT
END:VCALENDAR