BEGIN:VCALENDAR
VERSION:2.0
PRODID:-//DIOCESI DI ROMA - ECPv4.6.14.1//NONSGML v1.0//EN
CALSCALE:GREGORIAN
METHOD:PUBLISH
X-WR-CALNAME:DIOCESI DI ROMA
X-ORIGINAL-URL:https://www.diocesidiroma.it
X-WR-CALDESC:Eventi per DIOCESI DI ROMA
BEGIN:VEVENT
DTSTART;TZID=Europe/Rome:20241210T170000
DTEND;TZID=Europe/Rome:20241210T170000
DTSTAMP:20260422T113651
CREATED:20241206T110554Z
LAST-MODIFIED:20241206T110554Z
UID:32387-1733850000-1733850000@www.diocesidiroma.it
SUMMARY:Incontra la comunità di San Salvatore in Lauro nella festa della Beata Vergine Maria di Loreto
DESCRIPTION:Incontra la comunità di San Salvatore in Lauro nella festa della Beata Vergine Maria di Loreto \n
URL:https://www.diocesidiroma.it/event/incontra-la-comunita-di-san-salvatore-in-lauro-nella-festa-della-beata-vergine-maria-di-loreto/
CATEGORIES:Vicario Generale
END:VEVENT
END:VCALENDAR