BEGIN:VCALENDAR
VERSION:2.0
PRODID:-//DIOCESI DI ROMA - ECPv4.6.14.1//NONSGML v1.0//EN
CALSCALE:GREGORIAN
METHOD:PUBLISH
X-WR-CALNAME:DIOCESI DI ROMA
X-ORIGINAL-URL:https://www.diocesidiroma.it
X-WR-CALDESC:Eventi per DIOCESI DI ROMA
BEGIN:VEVENT
DTSTART;TZID=Europe/Rome:20190214T070000
DTEND;TZID=Europe/Rome:20190214T070000
DTSTAMP:20260421T050146
CREATED:20190208T092159Z
LAST-MODIFIED:20190208T092215Z
UID:6388-1550127600-1550127600@www.diocesidiroma.it
SUMMARY:Incontra la comunità e celebra la Messa al Monastero delle Figlie del Cuore di Gesù
DESCRIPTION:Incontra la comunità e celebra la Messa al Monastero delle Figlie del Cuore di Gesù. \n
URL:https://www.diocesidiroma.it/event/incontra-la-comunita-e-celebra-la-messa-al-monastero-delle-figlie-del-cuore-di-gesu/
CATEGORIES:NON USARE --- Agenda del Vicario
END:VEVENT
END:VCALENDAR