BEGIN:VCALENDAR
VERSION:2.0
PRODID:-//DIOCESI DI ROMA - ECPv4.6.14.1//NONSGML v1.0//EN
CALSCALE:GREGORIAN
METHOD:PUBLISH
X-WR-CALNAME:DIOCESI DI ROMA
X-ORIGINAL-URL:https://www.diocesidiroma.it
X-WR-CALDESC:Eventi per DIOCESI DI ROMA
BEGIN:VEVENT
DTSTART;TZID=Europe/Rome:20190301T063000
DTEND;TZID=Europe/Rome:20190301T063000
DTSTAMP:20260422T131037
CREATED:20190222T100411Z
LAST-MODIFIED:20190222T100411Z
UID:6727-1551421800-1551421800@www.diocesidiroma.it
SUMMARY:Incontra la comunità e celebra la Messa al Monastero di San Giuseppe delle  Monache Benedettine del Santissimo Sacramento
DESCRIPTION:Incontra la comunità e celebra la Messa al Monastero di San Giuseppe delle\nMonache Benedettine del Santissimo Sacramento \n
URL:https://www.diocesidiroma.it/event/incontra-la-comunita-e-celebra-la-messa-al-monastero-di-san-giuseppe-delle-monache-benedettine-del-santissimo-sacramento/
CATEGORIES:NON USARE --- Agenda del Vicario
END:VEVENT
END:VCALENDAR