BEGIN:VCALENDAR
VERSION:2.0
PRODID:-//DIOCESI DI ROMA - ECPv4.6.14.1//NONSGML v1.0//EN
CALSCALE:GREGORIAN
METHOD:PUBLISH
X-WR-CALNAME:DIOCESI DI ROMA
X-ORIGINAL-URL:https://www.diocesidiroma.it
X-WR-CALDESC:Eventi per DIOCESI DI ROMA
BEGIN:VEVENT
DTSTART;TZID=Europe/Rome:20190207T073000
DTEND;TZID=Europe/Rome:20190207T073000
DTSTAMP:20260425T143146
CREATED:20190201T082550Z
LAST-MODIFIED:20190201T082550Z
UID:6269-1549524600-1549524600@www.diocesidiroma.it
SUMMARY:Incontra la comunità e celebra la Messa al monastero Santa Maria Regina Coeli
DESCRIPTION:Incontra la comunità e celebra la Messa al monastero Santa Maria Regina Coeli. \n
URL:https://www.diocesidiroma.it/event/incontra-la-comunita-e-celebra-la-messa-al-monastero-santa-maria-regina-coeli/
CATEGORIES:NON USARE --- Agenda del Vicario
END:VEVENT
END:VCALENDAR