BEGIN:VCALENDAR
VERSION:2.0
PRODID:-//DIOCESI DI ROMA - ECPv4.6.14.1//NONSGML v1.0//EN
CALSCALE:GREGORIAN
METHOD:PUBLISH
X-WR-CALNAME:DIOCESI DI ROMA
X-ORIGINAL-URL:https://www.diocesidiroma.it
X-WR-CALDESC:Eventi per DIOCESI DI ROMA
BEGIN:VEVENT
DTSTART;TZID=Europe/Rome:20191121T070000
DTEND;TZID=Europe/Rome:20191121T070000
DTSTAMP:20260425T012753
CREATED:20191115T102104Z
LAST-MODIFIED:20191115T102118Z
UID:9272-1574319600-1574319600@www.diocesidiroma.it
SUMMARY:Incontra la comunità e celebra la Messa nel monastero della Beata Vergine Maria Addolorata delle Suore Mantellate
DESCRIPTION:Incontra la comunità e celebra la Messa nel monastero della Beata Vergine Maria Addolorata delle Suore Mantellate. \n
URL:https://www.diocesidiroma.it/event/incontra-la-comunita-e-celebra-la-messa-nel-monastero-della-beata-vergine-maria-addolorata-delle-suore-mantellate/
CATEGORIES:NON USARE --- Agenda del Vicario
END:VEVENT
END:VCALENDAR