BEGIN:VCALENDAR
VERSION:2.0
PRODID:-//DIOCESI DI ROMA - ECPv4.6.14.1//NONSGML v1.0//EN
CALSCALE:GREGORIAN
METHOD:PUBLISH
X-WR-CALNAME:DIOCESI DI ROMA
X-ORIGINAL-URL:https://www.diocesidiroma.it
X-WR-CALDESC:Eventi per DIOCESI DI ROMA
BEGIN:VEVENT
DTSTART;TZID=Europe/Rome:20190613T070000
DTEND;TZID=Europe/Rome:20190613T070000
DTSTAMP:20260420T184155
CREATED:20190607T094429Z
LAST-MODIFIED:20190607T094429Z
UID:7787-1560409200-1560409200@www.diocesidiroma.it
SUMMARY:Incontra la comunità e celebra la Messa nel Monastero delle Suore Benedettine Camaldolesi di Sant’Antonio Abate
DESCRIPTION:Incontra la comunità e celebra la Messa nel Monastero delle Suore Benedettine Camaldolesi di Sant’Antonio Abate. \n
URL:https://www.diocesidiroma.it/event/incontra-la-comunita-e-celebra-la-messa-nel-monastero-delle-suore-benedettine-camaldolesi-di-santantonio-abate/
CATEGORIES:NON USARE --- Agenda del Vicario
END:VEVENT
END:VCALENDAR