BEGIN:VCALENDAR
VERSION:2.0
PRODID:-//DIOCESI DI ROMA - ECPv4.6.14.1//NONSGML v1.0//EN
CALSCALE:GREGORIAN
METHOD:PUBLISH
X-WR-CALNAME:DIOCESI DI ROMA
X-ORIGINAL-URL:https://www.diocesidiroma.it
X-WR-CALDESC:Eventi per DIOCESI DI ROMA
BEGIN:VEVENT
DTSTART;TZID=Europe/Rome:20191031T070000
DTEND;TZID=Europe/Rome:20191031T070000
DTSTAMP:20260421T025909
CREATED:20191025T090256Z
LAST-MODIFIED:20191025T090256Z
UID:9120-1572505200-1572505200@www.diocesidiroma.it
SUMMARY:Incontra la comunità e celebra la Messa nel Monastero Domenicano della Santissima Annunziata
DESCRIPTION:Incontra la comunità e celebra la Messa nel Monastero Domenicano della Santissima Annunziata. \n
URL:https://www.diocesidiroma.it/event/incontra-la-comunita-e-celebra-la-messa-nel-monastero-domenicano-della-santissima-annunziata/
CATEGORIES:NON USARE --- Agenda del Vicario
END:VEVENT
END:VCALENDAR