BEGIN:VCALENDAR
VERSION:2.0
PRODID:-//DIOCESI DI ROMA - ECPv4.6.14.1//NONSGML v1.0//EN
CALSCALE:GREGORIAN
METHOD:PUBLISH
X-WR-CALNAME:DIOCESI DI ROMA
X-ORIGINAL-URL:https://www.diocesidiroma.it
X-WR-CALDESC:Eventi per DIOCESI DI ROMA
BEGIN:VEVENT
DTSTART;TZID=Europe/Rome:20190620T073000
DTEND;TZID=Europe/Rome:20190620T073000
DTSTAMP:20260421T025950
CREATED:20190614T104357Z
LAST-MODIFIED:20190614T104357Z
UID:7853-1561015800-1561015800@www.diocesidiroma.it
SUMMARY:Incontra la comunità e celebra la Messa nel Monastero Santissimo Corpo di Cristo delle Monache Clarisse Cappuccine
DESCRIPTION:Incontra la comunità e celebra la Messa nel Monastero Santissimo Corpo di Cristo delle Monache Clarisse Cappuccine.  \n
URL:https://www.diocesidiroma.it/event/incontra-la-comunita-e-celebra-la-messa-nel-monastero-santissimo-corpo-di-cristo-delle-monache-clarisse-cappuccine/
CATEGORIES:NON USARE --- Agenda del Vicario
END:VEVENT
END:VCALENDAR