BEGIN:VCALENDAR
VERSION:2.0
PRODID:-//DIOCESI DI ROMA - ECPv4.6.14.1//NONSGML v1.0//EN
CALSCALE:GREGORIAN
METHOD:PUBLISH
X-WR-CALNAME:DIOCESI DI ROMA
X-ORIGINAL-URL:https://www.diocesidiroma.it
X-WR-CALDESC:Eventi per DIOCESI DI ROMA
BEGIN:VEVENT
DTSTART;TZID=Europe/Rome:20190625T070000
DTEND;TZID=Europe/Rome:20190625T070000
DTSTAMP:20260422T113516
CREATED:20190621T093000Z
LAST-MODIFIED:20190621T093000Z
UID:7914-1561446000-1561446000@www.diocesidiroma.it
SUMMARY:Incontra la comunità e celebra la Messa presso l’Istituto delle Figlie di San Giuseppe del Caburlotto
DESCRIPTION:Incontra la comunità e celebra la Messa presso l’Istituto delle Figlie di San Giuseppe del Caburlotto. \n
URL:https://www.diocesidiroma.it/event/incontra-la-comunita-e-celebra-la-messa-presso-listituto-delle-figlie-di-san-giuseppe-del-caburlotto/
CATEGORIES:NON USARE --- Agenda del Vicario
END:VEVENT
END:VCALENDAR