BEGIN:VCALENDAR
VERSION:2.0
PRODID:-//DIOCESI DI ROMA - ECPv4.6.14.1//NONSGML v1.0//EN
CALSCALE:GREGORIAN
METHOD:PUBLISH
X-WR-CALNAME:DIOCESI DI ROMA
X-ORIGINAL-URL:https://www.diocesidiroma.it
X-WR-CALDESC:Eventi per DIOCESI DI ROMA
BEGIN:VEVENT
DTSTART;TZID=Europe/Rome:20251215T153000
DTEND;TZID=Europe/Rome:20251215T163000
DTSTAMP:20260423T112617
CREATED:20251212T132443Z
LAST-MODIFIED:20251212T132443Z
UID:39041-1765812600-1765816200@www.diocesidiroma.it
SUMMARY:Incontra la Consulta Pastorale Scolastica Diocesana
DESCRIPTION:Incontra la Consulta Pastorale Scolastica Diocesana \n
URL:https://www.diocesidiroma.it/event/incontra-la-consulta-pastorale-scolastica-diocesana/
CATEGORIES:Vicario Generale
END:VEVENT
END:VCALENDAR