BEGIN:VCALENDAR
VERSION:2.0
PRODID:-//DIOCESI DI ROMA - ECPv4.6.14.1//NONSGML v1.0//EN
CALSCALE:GREGORIAN
METHOD:PUBLISH
X-WR-CALNAME:DIOCESI DI ROMA
X-ORIGINAL-URL:https://www.diocesidiroma.it
X-WR-CALDESC:Eventi per DIOCESI DI ROMA
BEGIN:VEVENT
DTSTART;TZID=Europe/Rome:20241119T173000
DTEND;TZID=Europe/Rome:20241119T173000
DTSTAMP:20260425T102634
CREATED:20241115T161258Z
LAST-MODIFIED:20241115T161308Z
UID:31942-1732037400-1732037400@www.diocesidiroma.it
SUMMARY:Incontra le Suore di Madre Teresa a Primavalle
DESCRIPTION:Incontra le Suore di Madre Teresa a Primavalle \n
URL:https://www.diocesidiroma.it/event/incontra-le-suore-di-madre-teresa-a-primavalle/
CATEGORIES:Vicario Generale
END:VEVENT
END:VCALENDAR