BEGIN:VCALENDAR
VERSION:2.0
PRODID:-//DIOCESI DI ROMA - ECPv4.6.14.1//NONSGML v1.0//EN
CALSCALE:GREGORIAN
METHOD:PUBLISH
X-WR-CALNAME:DIOCESI DI ROMA
X-ORIGINAL-URL:https://www.diocesidiroma.it
X-WR-CALDESC:Eventi per DIOCESI DI ROMA
BEGIN:VEVENT
DTSTART;TZID=Europe/Rome:20251009T100000
DTEND;TZID=Europe/Rome:20251009T120000
DTSTAMP:20260421T022721
CREATED:20251003T105811Z
LAST-MODIFIED:20251003T105811Z
UID:37640-1760004000-1760011200@www.diocesidiroma.it
SUMMARY:Incontra l’equipe di pastorale dei migranti
DESCRIPTION:Incontra l’equipe di pastorale dei migranti \n
URL:https://www.diocesidiroma.it/event/incontra-lequipe-di-pastorale-dei-migranti/
CATEGORIES:Vicario Generale
END:VEVENT
END:VCALENDAR