BEGIN:VCALENDAR
VERSION:2.0
PRODID:-//DIOCESI DI ROMA - ECPv4.6.14.1//NONSGML v1.0//EN
CALSCALE:GREGORIAN
METHOD:PUBLISH
X-WR-CALNAME:DIOCESI DI ROMA
X-ORIGINAL-URL:https://www.diocesidiroma.it
X-WR-CALDESC:Eventi per DIOCESI DI ROMA
BEGIN:VEVENT
DTSTART;VALUE=DATE:20250111
DTEND;VALUE=DATE:20250112
DTSTAMP:20260425T030428
CREATED:20240924T132304Z
LAST-MODIFIED:20240924T132304Z
UID:30932-1736553600-1736639999@www.diocesidiroma.it
SUMMARY:Incontri del Vescovo S. E. Mons. Paolo Ricciardi con i cappellani e referenti delle comunità etniche (Uff. Migrantes)
DESCRIPTION:Incontri del Vescovo S. E. Mons. Paolo Ricciardi con i cappellani e referenti delle comunità etniche (Uff. Migrantes) \n
URL:https://www.diocesidiroma.it/event/incontri-del-vescovo-s-e-mons-paolo-ricciardi-con-i-cappellani-e-referenti-delle-comunita-etniche-uff-migrantes-4/
CATEGORIES:In Diocesi,Iniziative degli Uffici
END:VEVENT
END:VCALENDAR