BEGIN:VCALENDAR
VERSION:2.0
PRODID:-//DIOCESI DI ROMA - ECPv4.6.14.1//NONSGML v1.0//EN
CALSCALE:GREGORIAN
METHOD:PUBLISH
X-WR-CALNAME:DIOCESI DI ROMA
X-ORIGINAL-URL:https://www.diocesidiroma.it
X-WR-CALDESC:Eventi per DIOCESI DI ROMA
BEGIN:VEVENT
DTSTART;TZID=Europe/Rome:20251125T180000
DTEND;TZID=Europe/Rome:20251125T193000
DTSTAMP:20260424T111334
CREATED:20250910T122620Z
LAST-MODIFIED:20250910T122620Z
UID:37011-1764093600-1764099000@www.diocesidiroma.it
SUMMARY:Incontri di formazione per le guide di Roma
DESCRIPTION:Incontri di formazione per le guide di Roma “L’età barocca” – Chiesa San Giovanni dei Fiorentini. (Uff. Cultura) \n
URL:https://www.diocesidiroma.it/event/incontri-di-formazione-per-le-guide-di-roma-2/
CATEGORIES:Iniziative degli Uffici
END:VEVENT
END:VCALENDAR